BEGIN:VCALENDAR
VERSION:2.0
PRODID:Events Booking
BEGIN:VEVENT
UID:69e74b32c6de2
SUMMARY:Workshop on Open Citations & Open Scholarly Metadata 2023
DESCRIPTION:WORKSHOP ON OPEN CITATIONS &amp\; OPEN SCHOLARLY METADATA 2023&
 nbsp\;
 The Workshop on&nbsp\;Open Citations and Open Scholarly Metadata 
 (#WOOC2023)&nbsp\;will take place in Bologna\, Italy on 26-27 October 2023
 . The call for participation and contributions is open until 21 May 2023.&
 nbsp\; &nbsp\;
DTSTART:20231026T000000Z
DTEND:20231027T000000Z
DTSTAMP:20230509T125312Z
ORGANIZER:MAILTO:marmel@athenarc.gr
END:VEVENT
END:VCALENDAR