BEGIN:VCALENDAR
VERSION:2.0
PRODID:Events Booking
BEGIN:VEVENT
UID:69e87c070a0a4
SUMMARY:PUBMET2025
DESCRIPTION:The 12th Conference on Scholarly Communication in the Context o
 f Open Science
 Get ready for an inspiring and dynamic exploration of ope
 n science at PUBMET2025! The 12th Conference on Scholarly Communication in
  the Context of Open Science is set to take place at the University of Zag
 reb Faculty of Food Technology and Biotechnology from September 11–12\, 
 2025 – and you won’t want to miss it!
 
 
 Expect thought-provoking
  discussions\, inspiring insights\, and a collaborative atmosphere as we t
 ackle critical questions about open access journals\, books\, datasets\, p
 eer review\, and research assessment. Whether you’re an academic\, libra
 rian\, publisher\, or policymaker\, this is your chance to engage\, networ
 k\, and shape the future of scholarly communication.
 We invite you to ta
 ke center stage – submit your research\, share your expertise\, and cont
 ribute to the global conversation. Be a part of the movement to enhance th
 e quality and impact of open access publishing.
 Find out more details he
 re.
 
 
DTSTART:20250911T000000Z
DTEND:20250912T000000Z
DTSTAMP:20250410T093011Z
ORGANIZER:MAILTO:marmel@athenarc.gr
END:VEVENT
END:VCALENDAR