BEGIN:VCALENDAR
VERSION:2.0
PRODID:Events Booking
BEGIN:VEVENT
UID:69e76279ede09
SUMMARY:GraspOS Training Indicators for Institutions - OpenAIRE MONITOR
DESCRIPTION:Acknowledge\, understand and place thyselves in the research la
 ndscape unlocking Research Excellence.
 The institutional dashboard of th
 e&nbsp\;OpenAIRE MONITOR&nbsp\;service is a supplementary tool in enhancin
 g research assessment and decision-making processes for institutions. By p
 roviding comprehensive Open Access\, collaboration\, and impact metrics an
 d indicators\, this dashboard offers a nuanced understanding of an institu
 tion's research landscape.
DTSTART:20231219T100000Z
DTEND:20231219T110000Z
DTSTAMP:20231127T115318Z
ORGANIZER:MAILTO:marmel@athenarc.gr
END:VEVENT
END:VCALENDAR